<?xml version="1.0" encoding="UTF-8"?>
<Capabilities xmlns="http://www.opengis.net/wmts/1.0"
	xmlns:ows="http://www.opengis.net/ows/1.1"
	xmlns:xlink="http://www.w3.org/1999/xlink"
	xmlns:xsi="http://www.w3.org/2001/XMLSchema-instance"
	xmlns:gml="http://www.opengis.net/gml"
	xsi:schemaLocation="http://www.opengis.net/wmts/1.0 http://schemas.opengis.net/wmts/1.0/wmtsGetCapabilities_response.xsd"
	version="1.0.0">
  <!-- Service Identification --> 
 <ows:ServiceIdentification>
	<ows:Title>Hosted_Leeg</ows:Title>
	<ows:ServiceType>OGC WMTS</ows:ServiceType>
	<ows:ServiceTypeVersion>1.0.0</ows:ServiceTypeVersion>
</ows:ServiceIdentification> <!-- Operations Metadata --> <ows:OperationsMetadata>
	<ows:Operation name="GetCapabilities">
		<ows:DCP>
			<ows:HTTP>
				<ows:Get xlink:href="https://geo.rheden.nl/server/rest/services/Hosted/Leeg/MapServer/WMTS/1.0.0/WMTSCapabilities.xml">
					<ows:Constraint name="GetEncoding">
						<ows:AllowedValues>
							<ows:Value>RESTful</ows:Value>
						</ows:AllowedValues>
					</ows:Constraint>
				</ows:Get>
                <!-- add KVP binding in 10.1 -->
                <ows:Get xlink:href="https://geo.rheden.nl/server/rest/services/Hosted/Leeg/MapServer/WMTS?">
                  <ows:Constraint name="GetEncoding">
                    <ows:AllowedValues>
                      <ows:Value>KVP</ows:Value>
                    </ows:AllowedValues>
                  </ows:Constraint>
                </ows:Get>
    		</ows:HTTP>
    </ows:DCP>
	</ows:Operation>
	<ows:Operation name="GetTile">
		<ows:DCP>
			<ows:HTTP>
				<ows:Get xlink:href="https://geo.rheden.nl/server/rest/services/Hosted/Leeg/MapServer/WMTS/tile/1.0.0/">
					<ows:Constraint name="GetEncoding">
						<ows:AllowedValues>
							<ows:Value>RESTful</ows:Value>
						</ows:AllowedValues>
					</ows:Constraint>
				</ows:Get>
                <ows:Get xlink:href="https://geo.rheden.nl/server/rest/services/Hosted/Leeg/MapServer/WMTS?">
                  <ows:Constraint name="GetEncoding">
                    <ows:AllowedValues>
                      <ows:Value>KVP</ows:Value>
                    </ows:AllowedValues>
                  </ows:Constraint>
                </ows:Get>
            </ows:HTTP>
		</ows:DCP>
	</ows:Operation>
</ows:OperationsMetadata> 
<Contents>
  <!--Layer-->  
  <Layer>
    <ows:Title>Hosted_Leeg</ows:Title> 
    <ows:Identifier>Hosted_Leeg</ows:Identifier>
    <ows:BoundingBox crs="urn:ogc:def:crs:EPSG::28992">
	  <ows:LowerCorner>190291.03125 441997.5</ows:LowerCorner>
			<ows:UpperCorner>208779.953125 457997.21875</ows:UpperCorner>
		</ows:BoundingBox>  
      <ows:WGS84BoundingBox crs="urn:ogc:def:crs:OGC:2:84">
      <ows:LowerCorner>5.901226539430763 51.964762578785695</ows:LowerCorner>
      <ows:UpperCorner>6.172792006844025 52.11006443351215</ows:UpperCorner>
    </ows:WGS84BoundingBox>
    <Style isDefault="true">
      <ows:Title>Default Style</ows:Title>
      <ows:Identifier>default</ows:Identifier>
    </Style>
    <Format>image/png</Format>
    <TileMatrixSetLink>
      <TileMatrixSet>default028mm</TileMatrixSet>
    </TileMatrixSetLink>
      <ResourceURL format="image/png" resourceType="tile" template="https://geo.rheden.nl/server/rest/services/Hosted/Leeg/MapServer/WMTS/tile/1.0.0/Hosted_Leeg/{Style}/{TileMatrixSet}/{TileMatrix}/{TileRow}/{TileCol}.png" />
  </Layer> 
   <!--TileMatrixSet-->
   <TileMatrixSet>
     <ows:Title>TileMatrix using 0.28mm</ows:Title>
     <ows:Abstract>The tile matrix set that has scale values calculated based on the dpi defined by OGC specification (dpi assumes 0.28mm as the physical distance of a pixel).</ows:Abstract> 
     <ows:Identifier>default028mm</ows:Identifier>
     <ows:SupportedCRS>urn:ogc:def:crs:EPSG::28992</ows:SupportedCRS>
      <TileMatrix>
          <ows:Identifier>0</ows:Identifier>
          <ScaleDenominator>5805725.897165351</ScaleDenominator>
          <TopLeftCorner>-285401.92 903401.92</TopLeftCorner>  
          <TileWidth>512</TileWidth> 
          <TileHeight>512</TileHeight>
          <MatrixWidth>1</MatrixWidth> 
            <MatrixHeight>1</MatrixHeight>
          </TileMatrix>
          <TileMatrix>
          <ows:Identifier>1</ows:Identifier>
          <ScaleDenominator>2902862.9485826753</ScaleDenominator>
          <TopLeftCorner>-285401.92 903401.92</TopLeftCorner>  
          <TileWidth>512</TileWidth> 
          <TileHeight>512</TileHeight>
          <MatrixWidth>2</MatrixWidth> 
            <MatrixHeight>2</MatrixHeight>
          </TileMatrix>
          <TileMatrix>
          <ows:Identifier>2</ows:Identifier>
          <ScaleDenominator>1451431.4742913377</ScaleDenominator>
          <TopLeftCorner>-285401.92 903401.92</TopLeftCorner>  
          <TileWidth>512</TileWidth> 
          <TileHeight>512</TileHeight>
          <MatrixWidth>3</MatrixWidth> 
            <MatrixHeight>3</MatrixHeight>
          </TileMatrix>
          <TileMatrix>
          <ows:Identifier>3</ows:Identifier>
          <ScaleDenominator>725715.7371456688</ScaleDenominator>
          <TopLeftCorner>-285401.92 903401.92</TopLeftCorner>  
          <TileWidth>512</TileWidth> 
          <TileHeight>512</TileHeight>
          <MatrixWidth>5</MatrixWidth> 
            <MatrixHeight>5</MatrixHeight>
          </TileMatrix>
          <TileMatrix>
          <ows:Identifier>4</ows:Identifier>
          <ScaleDenominator>362857.8685728344</ScaleDenominator>
          <TopLeftCorner>-285401.92 903401.92</TopLeftCorner>  
          <TileWidth>512</TileWidth> 
          <TileHeight>512</TileHeight>
          <MatrixWidth>10</MatrixWidth> 
            <MatrixHeight>9</MatrixHeight>
          </TileMatrix>
          <TileMatrix>
          <ows:Identifier>5</ows:Identifier>
          <ScaleDenominator>181428.9342864172</ScaleDenominator>
          <TopLeftCorner>-285401.92 903401.92</TopLeftCorner>  
          <TileWidth>512</TileWidth> 
          <TileHeight>512</TileHeight>
          <MatrixWidth>19</MatrixWidth> 
            <MatrixHeight>18</MatrixHeight>
          </TileMatrix>
          <TileMatrix>
          <ows:Identifier>6</ows:Identifier>
          <ScaleDenominator>90714.4671432086</ScaleDenominator>
          <TopLeftCorner>-285401.92 903401.92</TopLeftCorner>  
          <TileWidth>512</TileWidth> 
          <TileHeight>512</TileHeight>
          <MatrixWidth>38</MatrixWidth> 
            <MatrixHeight>36</MatrixHeight>
          </TileMatrix>
          <TileMatrix>
          <ows:Identifier>7</ows:Identifier>
          <ScaleDenominator>45357.2335716043</ScaleDenominator>
          <TopLeftCorner>-285401.92 903401.92</TopLeftCorner>  
          <TileWidth>512</TileWidth> 
          <TileHeight>512</TileHeight>
          <MatrixWidth>76</MatrixWidth> 
            <MatrixHeight>71</MatrixHeight>
          </TileMatrix>
          <TileMatrix>
          <ows:Identifier>8</ows:Identifier>
          <ScaleDenominator>22678.61678580215</ScaleDenominator>
          <TopLeftCorner>-285401.92 903401.92</TopLeftCorner>  
          <TileWidth>512</TileWidth> 
          <TileHeight>512</TileHeight>
          <MatrixWidth>152</MatrixWidth> 
            <MatrixHeight>142</MatrixHeight>
          </TileMatrix>
          <TileMatrix>
          <ows:Identifier>9</ows:Identifier>
          <ScaleDenominator>11339.308392901075</ScaleDenominator>
          <TopLeftCorner>-285401.92 903401.92</TopLeftCorner>  
          <TileWidth>512</TileWidth> 
          <TileHeight>512</TileHeight>
          <MatrixWidth>304</MatrixWidth> 
            <MatrixHeight>284</MatrixHeight>
          </TileMatrix>
          <TileMatrix>
          <ows:Identifier>10</ows:Identifier>
          <ScaleDenominator>5669.654196450538</ScaleDenominator>
          <TopLeftCorner>-285401.92 903401.92</TopLeftCorner>  
          <TileWidth>512</TileWidth> 
          <TileHeight>512</TileHeight>
          <MatrixWidth>608</MatrixWidth> 
            <MatrixHeight>568</MatrixHeight>
          </TileMatrix>
          <TileMatrix>
          <ows:Identifier>11</ows:Identifier>
          <ScaleDenominator>2834.827098225269</ScaleDenominator>
          <TopLeftCorner>-285401.92 903401.92</TopLeftCorner>  
          <TileWidth>512</TileWidth> 
          <TileHeight>512</TileHeight>
          <MatrixWidth>1216</MatrixWidth> 
            <MatrixHeight>1136</MatrixHeight>
          </TileMatrix>
          <TileMatrix>
          <ows:Identifier>12</ows:Identifier>
          <ScaleDenominator>1417.4135491126344</ScaleDenominator>
          <TopLeftCorner>-285401.92 903401.92</TopLeftCorner>  
          <TileWidth>512</TileWidth> 
          <TileHeight>512</TileHeight>
          <MatrixWidth>2432</MatrixWidth> 
            <MatrixHeight>2271</MatrixHeight>
          </TileMatrix>
          <TileMatrix>
          <ows:Identifier>13</ows:Identifier>
          <ScaleDenominator>708.7067745563172</ScaleDenominator>
          <TopLeftCorner>-285401.92 903401.92</TopLeftCorner>  
          <TileWidth>512</TileWidth> 
          <TileHeight>512</TileHeight>
          <MatrixWidth>4864</MatrixWidth> 
            <MatrixHeight>4542</MatrixHeight>
          </TileMatrix>
          <TileMatrix>
          <ows:Identifier>14</ows:Identifier>
          <ScaleDenominator>354.3533872781586</ScaleDenominator>
          <TopLeftCorner>-285401.92 903401.92</TopLeftCorner>  
          <TileWidth>512</TileWidth> 
          <TileHeight>512</TileHeight>
          <MatrixWidth>9728</MatrixWidth> 
            <MatrixHeight>9083</MatrixHeight>
          </TileMatrix>
          <TileMatrix>
          <ows:Identifier>15</ows:Identifier>
          <ScaleDenominator>177.1766936390793</ScaleDenominator>
          <TopLeftCorner>-285401.92 903401.92</TopLeftCorner>  
          <TileWidth>512</TileWidth> 
          <TileHeight>512</TileHeight>
          <MatrixWidth>19456</MatrixWidth> 
            <MatrixHeight>18166</MatrixHeight>
          </TileMatrix>
          <TileMatrix>
          <ows:Identifier>16</ows:Identifier>
          <ScaleDenominator>88.58834681953965</ScaleDenominator>
          <TopLeftCorner>-285401.92 903401.92</TopLeftCorner>  
          <TileWidth>512</TileWidth> 
          <TileHeight>512</TileHeight>
          <MatrixWidth>38912</MatrixWidth> 
            <MatrixHeight>36331</MatrixHeight>
          </TileMatrix>
          <TileMatrix>
          <ows:Identifier>17</ows:Identifier>
          <ScaleDenominator>44.294173409769826</ScaleDenominator>
          <TopLeftCorner>-285401.92 903401.92</TopLeftCorner>  
          <TileWidth>512</TileWidth> 
          <TileHeight>512</TileHeight>
          <MatrixWidth>77824</MatrixWidth> 
            <MatrixHeight>72662</MatrixHeight>
          </TileMatrix>
          <TileMatrix>
          <ows:Identifier>18</ows:Identifier>
          <ScaleDenominator>22.147086704884913</ScaleDenominator>
          <TopLeftCorner>-285401.92 903401.92</TopLeftCorner>  
          <TileWidth>512</TileWidth> 
          <TileHeight>512</TileHeight>
          <MatrixWidth>155648</MatrixWidth> 
            <MatrixHeight>145324</MatrixHeight>
          </TileMatrix>
          <TileMatrix>
          <ows:Identifier>19</ows:Identifier>
          <ScaleDenominator>11.073543352442456</ScaleDenominator>
          <TopLeftCorner>-285401.92 903401.92</TopLeftCorner>  
          <TileWidth>512</TileWidth> 
          <TileHeight>512</TileHeight>
          <MatrixWidth>311296</MatrixWidth> 
            <MatrixHeight>290648</MatrixHeight>
          </TileMatrix>
          <TileMatrix>
          <ows:Identifier>20</ows:Identifier>
          <ScaleDenominator>5.536771676221228</ScaleDenominator>
          <TopLeftCorner>-285401.92 903401.92</TopLeftCorner>  
          <TileWidth>512</TileWidth> 
          <TileHeight>512</TileHeight>
          <MatrixWidth>622591</MatrixWidth> 
            <MatrixHeight>581296</MatrixHeight>
          </TileMatrix>
          <TileMatrix>
          <ows:Identifier>21</ows:Identifier>
          <ScaleDenominator>2.768385838110614</ScaleDenominator>
          <TopLeftCorner>-285401.92 903401.92</TopLeftCorner>  
          <TileWidth>512</TileWidth> 
          <TileHeight>512</TileHeight>
          <MatrixWidth>1245181</MatrixWidth> 
            <MatrixHeight>1162592</MatrixHeight>
          </TileMatrix>
          <TileMatrix>
          <ows:Identifier>22</ows:Identifier>
          <ScaleDenominator>1.384192919055307</ScaleDenominator>
          <TopLeftCorner>-285401.92 903401.92</TopLeftCorner>  
          <TileWidth>512</TileWidth> 
          <TileHeight>512</TileHeight>
          <MatrixWidth>2490361</MatrixWidth> 
            <MatrixHeight>2325183</MatrixHeight>
          </TileMatrix>
          </TileMatrixSet>
   </Contents>
<ServiceMetadataURL xlink:href="https://geo.rheden.nl/server/rest/services/Hosted/Leeg/MapServer/WMTS/1.0.0/WMTSCapabilities.xml" /> 
</Capabilities>
